 BEGIN:VCALENDAR
VERSION:2.0
PRODID:-//wp-events-plugin.com//7.2.3.1//EN
BEGIN:VEVENT
UID:33@celtomania.fr
DTSTART:20241115T123000Z
DTEND:20241115T133000Z
DTSTAMP:20240611T091917Z
URL:https://www.celtomania.fr/events/baco-de-nantes
SUMMARY:"Baco de Nantes" - Cie La Lune Rousse
DESCRIPTION:Une conteuse et une accordéoniste vous embarquent dans le Nant
 es maritime d’autrefois.&nbsp\;\n\nC'était du temps des armateurs\, des
  corsaires\, des long-courriers et du commerce triangulaire.\n\nIl y a Lol
 a\, fille de la terre\, du fleuve\, femme des quais. Elle raconte son enfa
 nce sur les quais de Nantes où venaient s'amarrer les bateaux chargés de
  marchandises : du riz\, du sucre\, du vin par centaines de tonneaux\, Ell
 e dit la contrebande\, les gabelous\, les marins\, l'amour.\n\nEt puis il 
 y a Baco\, pour qui elle invente des histoires de mer et de sirènes.\n\nB
 aco qui\, parti au loin\, reviendra à Nantes les coffres chargés d'or\,e
 t l'âme chavirée par la peur du naufrage..."...et c'est un grand secret 
 : quand tu as peur\, il n'y a plus de place pour l'amour..." commente Lola
  en servant du muscadet aux spectateurs.\n\nLa conteuse Anne-Gaël Gauduch
 eau et l’accordéoniste Alice Recht vous embarquent&nbsp\;: larguez les 
 amarres&nbsp\;!\n\nUn univers à mi-chemin entre le mythe et la réalité\
 , qu’on a souvent comparé à celui de François Bourgeon (“Les passag
 ers du vent”) ou de Hugo Pratt (“Corto Maltese”).\n\n&nbsp\;\n\nAnne
  -Gaël Gauducheau\,&nbsp\;conteuse - Alice Recht\, accordéon.\n\nTout pu
 blic\n\nDurée&nbsp\;: 1h\n\n&nbsp\;\n\n&nbsp\;\n\nTarifs : 15 € / 10 
 € / 7 €\nInfos\, Résa :&nbsp\;\nTel : 02 51 80 89 13&nbsp\;\nEmail :&
 nbsp\;contact@laruchenantes.fr\nSite :&nbsp\;www.laruchenantes.fr\nRejoign
 ez-nous sur Facebook et Instagram
CATEGORIES:Conte,Spectacle
LOCATION:Théâtre La Ruche - Nantes\, 8\, rue Félibien\, NANTES\, 44000\,
  France
X-APPLE-STRUCTURED-LOCATION;VALUE=URI;X-ADDRESS=8\, rue Félibien\, NANTES\
 , 44000\, France;X-APPLE-RADIUS=100;X-TITLE=Théâtre La Ruche - Nantes:ge
 o:0,0
END:VEVENT
END:VCALENDAR