 BEGIN:VCALENDAR
VERSION:2.0
PRODID:-//wp-events-plugin.com//7.2.3.1//EN
BEGIN:VEVENT
UID:16@celtomania.fr
DTSTART:20241029T173000Z
DTEND:20241029T210000Z
DTSTAMP:20240610T165320Z
URL:https://www.celtomania.fr/events/boeuf-trad
SUMMARY:Boeuf Trad.
DESCRIPTION:Le bœuf trad au Québreizh\, c’est une session musicale trad
 itionnelle bretonne\, québécoise\, irlandaise\, vendéenne\, etc … ouv
 erte à tou(te)s les musicien(ne)s\, chanteurs/chanteuses et danseurs/ dan
 seuses de tous niveaux&nbsp\;!\n\n&nbsp\;\n\nRestauration bretonne et qué
 bécoise/ bar sur place\n\nhttps://www.facebook.com/profile.php?id=1000636
 46054471\n\nContact : 02 40 57 71 43
ATTACH;FMTTYPE=image/jpeg:https://www.celtomania.fr/wp-content/uploads/202
 4/06/29-10-et-26-11-Clisson-Boeuf-trad-Quebreizh.png
CATEGORIES:Café Concert
LOCATION:Québreizh - Clisson\, 7 rue Cacault\, Clisson\, 44190\, France
X-APPLE-STRUCTURED-LOCATION;VALUE=URI;X-ADDRESS=7 rue Cacault\, Clisson\, 4
 4190\, France;X-APPLE-RADIUS=100;X-TITLE=Québreizh - Clisson:geo:0,0
END:VEVENT
END:VCALENDAR