 BEGIN:VCALENDAR
VERSION:2.0
PRODID:-//wp-events-plugin.com//7.2.3.1//EN
BEGIN:VEVENT
UID:69@celtomania.fr
DTSTART:20251018T130000Z
DTEND:20251018T144500Z
DTSTAMP:20250618T162118Z
URL:https://www.celtomania.fr/events/cine-relax-rebelle
SUMMARY:Ciné-relax "Rebelle"
DESCRIPTION:CINÉ-RELAX \n\n«&nbsp\;Rebelle&nbsp\;»\n\nFilm d’animation
 &nbsp\;de&nbsp\;Mark Andrews&nbsp\;et&nbsp\;Brenda Chapman - The Walt Disn
 ey Company - 2012.&nbsp\;\n\nL'histoire se déroule en Écosse médiévale
 .&nbsp\;La princesse Mérida\, jeune fille indépendante qui refuse de se 
 marier\, voit se réaliser un vœu malheureux à la suite d'une dispute&nb
 sp\;et&nbsp\;doit&nbsp\;trouver&nbsp\;un&nbsp\;moyen&nbsp\;de&nbsp\;sauver
  à la fois sa famille et le royaume sans&nbsp\;renoncer&nbsp\;à son&nbsp
 \;idéal&nbsp\;de vie.\n\nDurée 1h33. À partir de 8 ans.\n\n&nbsp\;\n\nC
 iné Relax\, qu'est-ce que c'est ?\n\nC'est une projection de film ouverte
  à tous\, avec des conditions d’accueil adaptées aux personnes en situ
 ation de handicap.\n\nUne séance où les personnes avec et sans handicap 
 partagent le plaisir du cinéma.\n\nUne équipe de bénévoles accueille\,
  informe et accompagne les différents publics.\n\nLes séances Ciné rela
 x à la médiathèque de Grandchamp-des-Fontaines c’est&nbsp\;chaque pre
 mier samedi des vacances scolaires&nbsp\;!\n\nPour découvrir le réseau C
 iné Relax :&nbsp\;www.culture-relax.org\n\nPour en savoir plus sur&nbsp\;
 Ciné relax à Grandchamp-des-Fontaines et aux alentours\n\n&nbsp\;\n\nOff
 ert par la médiathèque\n\nSur réservation : Merci de nous indiquer vos 
 besoins spécifiques lors de la réservation.\n\nRenseignements et réserv
 ation&nbsp\;:&nbsp\;\n\n 	du lundi au samedi au 02 49 62 39 70&nbsp\;\n 	o
 u sur&nbsp\;mediatheque@grandchampdesfontaines.fr\n\n&nbsp\;\n
ATTACH;FMTTYPE=image/jpeg:https://www.celtomania.fr/wp-content/uploads/202
 5/05/rebelle.jpeg
CATEGORIES:Cinéma,Jeune public
LOCATION:Médiathèque Victor Hugo - Grandchamp-des-Fontaines\, 5 Esplanade
  de l'Europe\, Grandchamp-des-Fontaines\, 44119\, France
X-APPLE-STRUCTURED-LOCATION;VALUE=URI;X-ADDRESS=5 Esplanade de l'Europe\, G
 randchamp-des-Fontaines\, 44119\, France;X-APPLE-RADIUS=100;X-TITLE=Média
 thèque Victor Hugo - Grandchamp-des-Fontaines:geo:0,0
END:VEVENT
END:VCALENDAR