 BEGIN:VCALENDAR
VERSION:2.0
PRODID:-//wp-events-plugin.com//7.2.3.1//EN
BEGIN:VEVENT
UID:36@celtomania.fr
DTSTART:20241130T173000Z
DTEND:20241130T190000Z
DTSTAMP:20241022T082940Z
URL:https://www.celtomania.fr/events/e-t-e-2
SUMMARY:É.T.É. « Sur ces eaux »
DESCRIPTION:Apéro-concert É.T.É		\n		CONCERT COMPLETRejoignez-nous pour 
 une soirée spéciale avec le concert du groupe É.T.É « Sur ces eaux »
 .. Ce trio vous propose un voyage musical\, où la musique actuelle se mê
 le harmonieusement aux traditions québécoises. Avec des mélodies et des
  rythmes entraînants\, É.T.É réinvente les sons du Québec en leur app
 ortant une touche contemporaine.Né de la rencontre de trois jeunes music
 iens aux parcours éclatés\, le groupe É.T. É propose une vision bien
  actuelle et dynamique de la musique traditionnelle québécoise. Il nous
  présente son tout nouveau spectacle « Sur ces eaux » inspiré par la m
 er et les histoires de traversées épiques où l’amour\, la mort\, le f
 éminisme et la passion sont à l’honneur.Une énergie débordante\, un 
 spectacle fort en émotions\, avec des arrangements audacieux et raffinés
  de pièces du répertoire traditionnel québécois et acadien ainsi que d
 es compositions originales et un jeu impressionnant du violon\, du bouzouk
 i irlandais\, de la guitare et du violoncelle.Violon\, voix et gigue : Él
 isabeth MoquinGuitare\, voix\, podorythmie et bouzouki : Thierry ClouetteV
 ioloncelle et voix : Élisabeth GirouxTARIFS : de 4 € à 8 € uniquemen
 t pour le concert d' É.T.É (hors boissons et grignotages).Billetterie à
  l’Office de Tourisme au 02.40.91.41.34 ou en ligne sur www.mairie-sain
 tlyphard.frhttps://youtu.be/K_Z8FX35tZ4
ATTACH;FMTTYPE=image/jpeg:https://www.celtomania.fr/wp-content/uploads/202
 4/06/29-11-E.T.E.-COMPLET-Nort-sur-Erdre-©-Camille-Gladu-Drouin-E.T.E_HD-
 0182-scaled.jpg
CATEGORIES:Concert
LOCATION:Espace Culturel Sainte-Anne - St-Lyphard\, 2\, rue des Ajoncs\, SA
 INT-LYPHARD\, 44410\, France
X-APPLE-STRUCTURED-LOCATION;VALUE=URI;X-ADDRESS=2\, rue des Ajoncs\, SAINT-
 LYPHARD\, 44410\, France;X-APPLE-RADIUS=100;X-TITLE=Espace Culturel Sainte
 -Anne - St-Lyphard:geo:0,0
END:VEVENT
END:VCALENDAR