 BEGIN:VCALENDAR
VERSION:2.0
PRODID:-//wp-events-plugin.com//7.2.3.1//EN
BEGIN:VEVENT
UID:12@celtomania.fr
DTSTART;TZID=Europe/Paris:20241026T200000
DTEND;TZID=Europe/Paris:20241026T213000
DTSTAMP:20240610T161853Z
URL:https://www.celtomania.fr/events/madelyn-ann
SUMMARY:Madelyn Ann
DESCRIPTION:À travers une musique alliant l'énergie de la pop à des sono
 rités aériennes\, quelque part entre Tove Lo et Coldplay\, MADELYN ANN e
 st un groupe qui ouvre une nouvelle voie dans le paysage musical breton. L
 a voix douce et puissante de Madeline Anne\, la chanteuse\, donne à la la
 ngue bretonne des sonorités anglaises ou scandinaves qui nous transporten
 t et nous font rêver.\n\nEn 2022\, après avoir partagé la scène aux c
 ôtés de Denez Prigent et joué en ouverture du concert de Jane Birkin\, 
 le groupe se produit lors de prestigieux événements culturels bretons te
 ls que la Fête de la Bretagne\, le Festival de Cornouaille ainsi que l'in
 contournable Festival Interceltique de Lorient.\n\nAvec leur 1er album «&
 nbsp\;NEVEZ AMZER&nbsp\;» sorti au printemps 2023\, le groupe nous emmèn
 e dans des univers musicaux entre pop dansante\, rock énergique et musiqu
 es cinématographiques\, évoquant aussi des artistes comme London Grammar
 \, Florence + The Machine ou Kate Bush. Les 10 titres chantés en breton p
 ortent un regard poétique sur le monde et les sujets qui tiennent à cœu
 r la chanteuse (la place des femmes dans notre société\, l'écologie\, l
 es blessures de la vie ou l'amour). Peut-être le plus international des a
 lbums bretons à ce jour&nbsp\;!\n\nEntrée libre\, sans réservation.\n\n
 Renseignements&nbsp\;: www.batzsurmer.fr\n\nhttps://youtu.be/pV_0sya4Wms
ATTACH;FMTTYPE=image/jpeg:https://www.celtomania.fr/wp-content/uploads/202
 4/06/26-10-Batz-sur-Mer-MADELYN-ANN-credit-Gweza-scaled.jpg
CATEGORIES:Concert
LOCATION:Salle des fêtes - Batz-sur-Mer\, 9 rue de la plage\, Batz-sur-Mer
 \, Loire-Atlantique\, 44740\, France
X-APPLE-STRUCTURED-LOCATION;VALUE=URI;X-ADDRESS=9 rue de la plage\, Batz-su
 r-Mer\, Loire-Atlantique\, 44740\, France;X-APPLE-RADIUS=100;X-TITLE=Salle
  des fêtes - Batz-sur-Mer:geo:0,0
END:VEVENT
BEGIN:VTIMEZONE
TZID:Europe/Paris
X-LIC-LOCATION:Europe/Paris
BEGIN:DAYLIGHT
DTSTART:20240331T030000
TZOFFSETFROM:+0100
TZOFFSETTO:+0200
TZNAME:CEST
END:DAYLIGHT
END:VTIMEZONE
END:VCALENDAR