 BEGIN:VCALENDAR
VERSION:2.0
PRODID:-//wp-events-plugin.com//7.2.3.1//EN
BEGIN:VEVENT
UID:98@celtomania.fr
DTSTART:20251129T130000Z
DTEND:20251129T140000Z
DTSTAMP:20250618T134604Z
URL:https://www.celtomania.fr/events/spectacle-familial-par-le-bout-du-noz
SUMMARY:Spectacle familial « Par le bout du Noz »
DESCRIPTION:SPECTACLE FAMILIAL\n\n«&nbsp\;Par le bout du Noz&nbsp\;»\n\nP
 ar le Bout du Noz est un spectacle à danser pour les enfants accompagnés
  de leurs parents.\n\nCe spectacle à danser s'appuie sur l'histoire origi
 nale de Fanch Moussara\, un blaireau un peu narcoleptique. Elle est illust
 rée par des dessins dévoilés au fil de la narration. Les enfants accomp
 agneront Fanch et sa famille dans leurs aventures avec des danses liées a
 ux événements de l'histoire.\nAinsi les danseurs en herbe se retrouveron
 t propulsés dans un Galop nantais pour accompagner la famille Moussara da
 ns la forêt ou danseront un Rond de Saint-Vincent comme l'ours Norbert\, 
 pour attraper du miel et de la cire dans une ruche\, sans se faire piquer.
  Les enfants danseront en ronde\, en chaine et en couple\, des pas de dans
 es\, parfois simplifiés\, en ayant toujours un rapport direct avec le ré
 cit.\nAu-delà de l'apprentissage des danses\, c'est un projet dansant pou
 r « faire ensemble » auquel les enfants participeront avec leurs parents
 \, en les menant « par le bout du noz ».\n\n\nhttps://youtu.be/zN5QTMeCd
 i8\nInformations pratiques\n\n 	A partir de 6 ans\n 	Durée : 50 minutes.\
 n 	Spectacle offert par la médiathèque – Réservations&nbsp\;: 02 40 7
 9 05 30\n\n&nbsp\;\n\nCrédit photo&nbsp\;:&nbsp\; @IngridJouault
ATTACH;FMTTYPE=image/jpeg:https://www.celtomania.fr/wp-content/uploads/202
 5/05/par-le-bout-du-noz@IngridJouault.jpg
CATEGORIES:Danse,Jeune public,Spectacle
LOCATION:Médiathèque Le Puits au Chat - Blain\, Passage Sophie Scholl\, B
 lain\, France
X-APPLE-STRUCTURED-LOCATION;VALUE=URI;X-ADDRESS=Passage Sophie Scholl\, Bla
 in\, France;X-APPLE-RADIUS=100;X-TITLE=Médiathèque Le Puits au Chat - Bl
 ain:geo:0,0
END:VEVENT
END:VCALENDAR